BEGIN:VCALENDAR
PRODID:-//Coburg Calendar//coburgcalendar.com//EN
VERSION:2.0
CALSCALE:GREGORIAN
METHOD:PUBLISH
X-WR-CALNAME:Coburg Calendar
X-WR-CALDESC:Community events in Coburg, Oregon
X-WR-TIMEZONE:America/Los_Angeles
BEGIN:VTIMEZONE
TZID:America/Los_Angeles
X-LIC-LOCATION:America/Los_Angeles
BEGIN:DAYLIGHT
TZOFFSETFROM:-0800
TZOFFSETTO:-0700
TZNAME:PDT
DTSTART:19700308T020000
RRULE:FREQ=YEARLY;BYMONTH=3;BYDAY=2SU
END:DAYLIGHT
BEGIN:STANDARD
TZOFFSETFROM:-0700
TZOFFSETTO:-0800
TZNAME:PST
DTSTART:19701101T020000
RRULE:FREQ=YEARLY;BYMONTH=11;BYDAY=1SU
END:STANDARD
END:VTIMEZONE
BEGIN:VEVENT
UID:02hf64meci4jnvs8bfrj1ghoq0@google.com:2026-03-26@coburgcalendar.com
DTSTAMP:20260424T192604Z
DTSTART:20260326T013000Z
DTEND:20260326T030000Z
SUMMARY:🎶 Coburg Community Choir
DESCRIPTION:Contact Dave Fitch for more.
LOCATION:Coburg Commons\, 91193 N Willamette St\, Coburg\, OR 97408\, USA
URL:https://coburgcalendar.com/?event=02hf64meci4jnvs8bfrj1ghoq0%40google.c
 om%3A2026-03-26
CATEGORIES:Coburg Commons
END:VEVENT
BEGIN:VEVENT
UID:38djl7n7l1lruqc9rntcersgal@google.com:2026-03-29@coburgcalendar.com
DTSTAMP:20260424T192604Z
DTSTART:20260329T193000Z
DTEND:20260329T210000Z
SUMMARY:📒 Poetry in the Round
DESCRIPTION:Reading poetry together in the round\, weekly.
LOCATION:Coburg Commons\, 91193 N Willamette St\, Coburg\, OR 97408\, USA
URL:https://coburgcalendar.com/?event=38djl7n7l1lruqc9rntcersgal%40google.c
 om%3A2026-03-29
CATEGORIES:Coburg Commons
END:VEVENT
BEGIN:VEVENT
UID:02hf64meci4jnvs8bfrj1ghoq0@google.com:2026-04-02@coburgcalendar.com
DTSTAMP:20260424T192604Z
DTSTART:20260402T013000Z
DTEND:20260402T030000Z
SUMMARY:🎶 Coburg Community Choir
DESCRIPTION:Contact Dave Fitch for more.
LOCATION:Coburg Commons\, 91193 N Willamette St\, Coburg\, OR 97408\, USA
URL:https://coburgcalendar.com/?event=02hf64meci4jnvs8bfrj1ghoq0%40google.c
 om%3A2026-04-02
CATEGORIES:Coburg Commons
END:VEVENT
BEGIN:VEVENT
UID:38djl7n7l1lruqc9rntcersgal@google.com:2026-04-05@coburgcalendar.com
DTSTAMP:20260424T192604Z
DTSTART:20260405T193000Z
DTEND:20260405T210000Z
SUMMARY:📒 Poetry in the Round
DESCRIPTION:Reading poetry together in the round\, weekly.
LOCATION:Coburg Commons\, 91193 N Willamette St\, Coburg\, OR 97408\, USA
URL:https://coburgcalendar.com/?event=38djl7n7l1lruqc9rntcersgal%40google.c
 om%3A2026-04-05
CATEGORIES:Coburg Commons
END:VEVENT
BEGIN:VEVENT
UID:02hf64meci4jnvs8bfrj1ghoq0@google.com:2026-04-09@coburgcalendar.com
DTSTAMP:20260424T192604Z
DTSTART:20260409T013000Z
DTEND:20260409T030000Z
SUMMARY:🎶 Coburg Community Choir
DESCRIPTION:Contact Dave Fitch for more.
LOCATION:Coburg Commons\, 91193 N Willamette St\, Coburg\, OR 97408\, USA
URL:https://coburgcalendar.com/?event=02hf64meci4jnvs8bfrj1ghoq0%40google.c
 om%3A2026-04-09
CATEGORIES:Coburg Commons
END:VEVENT
BEGIN:VEVENT
UID:38djl7n7l1lruqc9rntcersgal@google.com:2026-04-12@coburgcalendar.com
DTSTAMP:20260424T192604Z
DTSTART:20260412T193000Z
DTEND:20260412T210000Z
SUMMARY:📒 Poetry in the Round
DESCRIPTION:Reading poetry together in the round\, weekly.
LOCATION:Coburg Commons\, 91193 N Willamette St\, Coburg\, OR 97408\, USA
URL:https://coburgcalendar.com/?event=38djl7n7l1lruqc9rntcersgal%40google.c
 om%3A2026-04-12
CATEGORIES:Coburg Commons
END:VEVENT
BEGIN:VEVENT
UID:2f48d5b4kgoi9tjvbf186di7k7@google.com:2026-04-13@coburgcalendar.com
DTSTAMP:20260424T192604Z
DTSTART:20260413T210000Z
DTEND:20260413T230000Z
SUMMARY:Coburg Food Pantry
LOCATION:Coburg Food Pantry\, 32695 E Pearl St\, Coburg\, OR 97408\, USA
URL:https://coburgcalendar.com/?event=2f48d5b4kgoi9tjvbf186di7k7%40google.c
 om%3A2026-04-13
CATEGORIES:Coburg Food Pantry
END:VEVENT
BEGIN:VEVENT
UID:02hf64meci4jnvs8bfrj1ghoq0@google.com:2026-04-16@coburgcalendar.com
DTSTAMP:20260424T192604Z
DTSTART:20260416T013000Z
DTEND:20260416T030000Z
SUMMARY:🎶 Coburg Community Choir
DESCRIPTION:Contact Dave Fitch for more.
LOCATION:Coburg Commons\, 91193 N Willamette St\, Coburg\, OR 97408\, USA
URL:https://coburgcalendar.com/?event=02hf64meci4jnvs8bfrj1ghoq0%40google.c
 om%3A2026-04-16
CATEGORIES:Coburg Commons
END:VEVENT
BEGIN:VEVENT
UID:54brc4u1a6nmi15etr6si8qv3s@google.com:2026-04-18@coburgcalendar.com
DTSTAMP:20260424T192604Z
DTSTART:20260418T190000Z
DTEND:20260418T230000Z
SUMMARY:Save Coburg Commons! Drop-In Volunteer Fair & Raffle
LOCATION:Coburg Commons\, 91193 N Willamette St\, Coburg\, OR 97408\, USA
URL:https://coburgcalendar.com/?event=54brc4u1a6nmi15etr6si8qv3s%40google.c
 om%3A2026-04-18
CATEGORIES:Coburg Commons
END:VEVENT
BEGIN:VEVENT
UID:38djl7n7l1lruqc9rntcersgal@google.com:2026-04-19@coburgcalendar.com
DTSTAMP:20260424T192604Z
DTSTART:20260419T193000Z
DTEND:20260419T210000Z
SUMMARY:📒 Poetry in the Round
DESCRIPTION:Reading poetry together in the round\, weekly.
LOCATION:Coburg Commons\, 91193 N Willamette St\, Coburg\, OR 97408\, USA
URL:https://coburgcalendar.com/?event=38djl7n7l1lruqc9rntcersgal%40google.c
 om%3A2026-04-19
CATEGORIES:Coburg Commons
END:VEVENT
BEGIN:VEVENT
UID:02hf64meci4jnvs8bfrj1ghoq0@google.com:2026-04-23@coburgcalendar.com
DTSTAMP:20260424T192604Z
DTSTART:20260423T013000Z
DTEND:20260423T030000Z
SUMMARY:🎶 Coburg Community Choir
DESCRIPTION:Contact Dave Fitch for more.
LOCATION:Coburg Commons\, 91193 N Willamette St\, Coburg\, OR 97408\, USA
URL:https://coburgcalendar.com/?event=02hf64meci4jnvs8bfrj1ghoq0%40google.c
 om%3A2026-04-23
CATEGORIES:Coburg Commons
END:VEVENT
BEGIN:VEVENT
UID:38djl7n7l1lruqc9rntcersgal@google.com:2026-04-26@coburgcalendar.com
DTSTAMP:20260424T192604Z
DTSTART:20260426T193000Z
DTEND:20260426T210000Z
SUMMARY:📒 Poetry in the Round
DESCRIPTION:Reading poetry together in the round\, weekly.
LOCATION:Coburg Commons\, 91193 N Willamette St\, Coburg\, OR 97408\, USA
URL:https://coburgcalendar.com/?event=38djl7n7l1lruqc9rntcersgal%40google.c
 om%3A2026-04-26
CATEGORIES:Coburg Commons
END:VEVENT
BEGIN:VEVENT
UID:3f36lht4d9eniocnfrkfm25ejm@google.com:2026-04-27@coburgcalendar.com
DTSTAMP:20260424T192604Z
DTSTART:20260427T210000Z
DTEND:20260427T230000Z
SUMMARY:Coburg Food Pantry
LOCATION:Coburg Food Pantry\, 32695 E Pearl St\, Coburg\, OR 97408\, USA
URL:https://coburgcalendar.com/?event=3f36lht4d9eniocnfrkfm25ejm%40google.c
 om%3A2026-04-27
CATEGORIES:Coburg Food Pantry
END:VEVENT
BEGIN:VEVENT
UID:02hf64meci4jnvs8bfrj1ghoq0@google.com:2026-04-30@coburgcalendar.com
DTSTAMP:20260424T192604Z
DTSTART:20260430T013000Z
DTEND:20260430T030000Z
SUMMARY:🎶 Coburg Community Choir
DESCRIPTION:Contact Dave Fitch for more.
LOCATION:Coburg Commons\, 91193 N Willamette St\, Coburg\, OR 97408\, USA
URL:https://coburgcalendar.com/?event=02hf64meci4jnvs8bfrj1ghoq0%40google.c
 om%3A2026-04-30
CATEGORIES:Coburg Commons
END:VEVENT
BEGIN:VEVENT
UID:38djl7n7l1lruqc9rntcersgal@google.com:2026-05-03@coburgcalendar.com
DTSTAMP:20260424T192604Z
DTSTART:20260503T193000Z
DTEND:20260503T210000Z
SUMMARY:📒 Poetry in the Round
DESCRIPTION:Reading poetry together in the round\, weekly.
LOCATION:Coburg Commons\, 91193 N Willamette St\, Coburg\, OR 97408\, USA
URL:https://coburgcalendar.com/?event=38djl7n7l1lruqc9rntcersgal%40google.c
 om%3A2026-05-03
CATEGORIES:Coburg Commons
END:VEVENT
BEGIN:VEVENT
UID:02hf64meci4jnvs8bfrj1ghoq0@google.com:2026-05-07@coburgcalendar.com
DTSTAMP:20260424T192604Z
DTSTART:20260507T013000Z
DTEND:20260507T030000Z
SUMMARY:🎶 Coburg Community Choir
DESCRIPTION:Contact Dave Fitch for more.
LOCATION:Coburg Commons\, 91193 N Willamette St\, Coburg\, OR 97408\, USA
URL:https://coburgcalendar.com/?event=02hf64meci4jnvs8bfrj1ghoq0%40google.c
 om%3A2026-05-07
CATEGORIES:Coburg Commons
END:VEVENT
BEGIN:VEVENT
UID:38djl7n7l1lruqc9rntcersgal@google.com:2026-05-10@coburgcalendar.com
DTSTAMP:20260424T192604Z
DTSTART:20260510T193000Z
DTEND:20260510T210000Z
SUMMARY:📒 Poetry in the Round
DESCRIPTION:Reading poetry together in the round\, weekly.
LOCATION:Coburg Commons\, 91193 N Willamette St\, Coburg\, OR 97408\, USA
URL:https://coburgcalendar.com/?event=38djl7n7l1lruqc9rntcersgal%40google.c
 om%3A2026-05-10
CATEGORIES:Coburg Commons
END:VEVENT
BEGIN:VEVENT
UID:2f48d5b4kgoi9tjvbf186di7k7@google.com:2026-05-11@coburgcalendar.com
DTSTAMP:20260424T192604Z
DTSTART:20260511T210000Z
DTEND:20260511T230000Z
SUMMARY:Coburg Food Pantry
LOCATION:Coburg Food Pantry\, 32695 E Pearl St\, Coburg\, OR 97408\, USA
URL:https://coburgcalendar.com/?event=2f48d5b4kgoi9tjvbf186di7k7%40google.c
 om%3A2026-05-11
CATEGORIES:Coburg Food Pantry
END:VEVENT
BEGIN:VEVENT
UID:02hf64meci4jnvs8bfrj1ghoq0@google.com:2026-05-14@coburgcalendar.com
DTSTAMP:20260424T192604Z
DTSTART:20260514T013000Z
DTEND:20260514T030000Z
SUMMARY:🎶 Coburg Community Choir
DESCRIPTION:Contact Dave Fitch for more.
LOCATION:Coburg Commons\, 91193 N Willamette St\, Coburg\, OR 97408\, USA
URL:https://coburgcalendar.com/?event=02hf64meci4jnvs8bfrj1ghoq0%40google.c
 om%3A2026-05-14
CATEGORIES:Coburg Commons
END:VEVENT
BEGIN:VEVENT
UID:38djl7n7l1lruqc9rntcersgal@google.com:2026-05-17@coburgcalendar.com
DTSTAMP:20260424T192604Z
DTSTART:20260517T193000Z
DTEND:20260517T210000Z
SUMMARY:📒 Poetry in the Round
DESCRIPTION:Reading poetry together in the round\, weekly.
LOCATION:Coburg Commons\, 91193 N Willamette St\, Coburg\, OR 97408\, USA
URL:https://coburgcalendar.com/?event=38djl7n7l1lruqc9rntcersgal%40google.c
 om%3A2026-05-17
CATEGORIES:Coburg Commons
END:VEVENT
BEGIN:VEVENT
UID:02hf64meci4jnvs8bfrj1ghoq0@google.com:2026-05-21@coburgcalendar.com
DTSTAMP:20260424T192604Z
DTSTART:20260521T013000Z
DTEND:20260521T030000Z
SUMMARY:🎶 Coburg Community Choir
DESCRIPTION:Contact Dave Fitch for more.
LOCATION:Coburg Commons\, 91193 N Willamette St\, Coburg\, OR 97408\, USA
URL:https://coburgcalendar.com/?event=02hf64meci4jnvs8bfrj1ghoq0%40google.c
 om%3A2026-05-21
CATEGORIES:Coburg Commons
END:VEVENT
BEGIN:VEVENT
UID:38djl7n7l1lruqc9rntcersgal@google.com:2026-05-24@coburgcalendar.com
DTSTAMP:20260424T192604Z
DTSTART:20260524T193000Z
DTEND:20260524T210000Z
SUMMARY:📒 Poetry in the Round
DESCRIPTION:Reading poetry together in the round\, weekly.
LOCATION:Coburg Commons\, 91193 N Willamette St\, Coburg\, OR 97408\, USA
URL:https://coburgcalendar.com/?event=38djl7n7l1lruqc9rntcersgal%40google.c
 om%3A2026-05-24
CATEGORIES:Coburg Commons
END:VEVENT
BEGIN:VEVENT
UID:3f36lht4d9eniocnfrkfm25ejm@google.com:2026-05-25@coburgcalendar.com
DTSTAMP:20260424T192604Z
DTSTART:20260525T210000Z
DTEND:20260525T230000Z
SUMMARY:Coburg Food Pantry
LOCATION:Coburg Food Pantry\, 32695 E Pearl St\, Coburg\, OR 97408\, USA
URL:https://coburgcalendar.com/?event=3f36lht4d9eniocnfrkfm25ejm%40google.c
 om%3A2026-05-25
CATEGORIES:Coburg Food Pantry
END:VEVENT
BEGIN:VEVENT
UID:02hf64meci4jnvs8bfrj1ghoq0@google.com:2026-05-28@coburgcalendar.com
DTSTAMP:20260424T192604Z
DTSTART:20260528T013000Z
DTEND:20260528T030000Z
SUMMARY:🎶 Coburg Community Choir
DESCRIPTION:Contact Dave Fitch for more.
LOCATION:Coburg Commons\, 91193 N Willamette St\, Coburg\, OR 97408\, USA
URL:https://coburgcalendar.com/?event=02hf64meci4jnvs8bfrj1ghoq0%40google.c
 om%3A2026-05-28
CATEGORIES:Coburg Commons
END:VEVENT
BEGIN:VEVENT
UID:38djl7n7l1lruqc9rntcersgal@google.com:2026-05-31@coburgcalendar.com
DTSTAMP:20260424T192604Z
DTSTART:20260531T193000Z
DTEND:20260531T210000Z
SUMMARY:📒 Poetry in the Round
DESCRIPTION:Reading poetry together in the round\, weekly.
LOCATION:Coburg Commons\, 91193 N Willamette St\, Coburg\, OR 97408\, USA
URL:https://coburgcalendar.com/?event=38djl7n7l1lruqc9rntcersgal%40google.c
 om%3A2026-05-31
CATEGORIES:Coburg Commons
END:VEVENT
BEGIN:VEVENT
UID:02hf64meci4jnvs8bfrj1ghoq0@google.com:2026-06-04@coburgcalendar.com
DTSTAMP:20260424T192604Z
DTSTART:20260604T013000Z
DTEND:20260604T030000Z
SUMMARY:🎶 Coburg Community Choir
DESCRIPTION:Contact Dave Fitch for more.
LOCATION:Coburg Commons\, 91193 N Willamette St\, Coburg\, OR 97408\, USA
URL:https://coburgcalendar.com/?event=02hf64meci4jnvs8bfrj1ghoq0%40google.c
 om%3A2026-06-04
CATEGORIES:Coburg Commons
END:VEVENT
BEGIN:VEVENT
UID:38djl7n7l1lruqc9rntcersgal@google.com:2026-06-07@coburgcalendar.com
DTSTAMP:20260424T192604Z
DTSTART:20260607T193000Z
DTEND:20260607T210000Z
SUMMARY:📒 Poetry in the Round
DESCRIPTION:Reading poetry together in the round\, weekly.
LOCATION:Coburg Commons\, 91193 N Willamette St\, Coburg\, OR 97408\, USA
URL:https://coburgcalendar.com/?event=38djl7n7l1lruqc9rntcersgal%40google.c
 om%3A2026-06-07
CATEGORIES:Coburg Commons
END:VEVENT
BEGIN:VEVENT
UID:2f48d5b4kgoi9tjvbf186di7k7@google.com:2026-06-08@coburgcalendar.com
DTSTAMP:20260424T192604Z
DTSTART:20260608T210000Z
DTEND:20260608T230000Z
SUMMARY:Coburg Food Pantry
LOCATION:Coburg Food Pantry\, 32695 E Pearl St\, Coburg\, OR 97408\, USA
URL:https://coburgcalendar.com/?event=2f48d5b4kgoi9tjvbf186di7k7%40google.c
 om%3A2026-06-08
CATEGORIES:Coburg Food Pantry
END:VEVENT
BEGIN:VEVENT
UID:02hf64meci4jnvs8bfrj1ghoq0@google.com:2026-06-11@coburgcalendar.com
DTSTAMP:20260424T192604Z
DTSTART:20260611T013000Z
DTEND:20260611T030000Z
SUMMARY:🎶 Coburg Community Choir
DESCRIPTION:Contact Dave Fitch for more.
LOCATION:Coburg Commons\, 91193 N Willamette St\, Coburg\, OR 97408\, USA
URL:https://coburgcalendar.com/?event=02hf64meci4jnvs8bfrj1ghoq0%40google.c
 om%3A2026-06-11
CATEGORIES:Coburg Commons
END:VEVENT
BEGIN:VEVENT
UID:38djl7n7l1lruqc9rntcersgal@google.com:2026-06-14@coburgcalendar.com
DTSTAMP:20260424T192604Z
DTSTART:20260614T193000Z
DTEND:20260614T210000Z
SUMMARY:📒 Poetry in the Round
DESCRIPTION:Reading poetry together in the round\, weekly.
LOCATION:Coburg Commons\, 91193 N Willamette St\, Coburg\, OR 97408\, USA
URL:https://coburgcalendar.com/?event=38djl7n7l1lruqc9rntcersgal%40google.c
 om%3A2026-06-14
CATEGORIES:Coburg Commons
END:VEVENT
BEGIN:VEVENT
UID:02hf64meci4jnvs8bfrj1ghoq0@google.com:2026-06-18@coburgcalendar.com
DTSTAMP:20260424T192604Z
DTSTART:20260618T013000Z
DTEND:20260618T030000Z
SUMMARY:🎶 Coburg Community Choir
DESCRIPTION:Contact Dave Fitch for more.
LOCATION:Coburg Commons\, 91193 N Willamette St\, Coburg\, OR 97408\, USA
URL:https://coburgcalendar.com/?event=02hf64meci4jnvs8bfrj1ghoq0%40google.c
 om%3A2026-06-18
CATEGORIES:Coburg Commons
END:VEVENT
BEGIN:VEVENT
UID:38djl7n7l1lruqc9rntcersgal@google.com:2026-06-21@coburgcalendar.com
DTSTAMP:20260424T192604Z
DTSTART:20260621T193000Z
DTEND:20260621T210000Z
SUMMARY:📒 Poetry in the Round
DESCRIPTION:Reading poetry together in the round\, weekly.
LOCATION:Coburg Commons\, 91193 N Willamette St\, Coburg\, OR 97408\, USA
URL:https://coburgcalendar.com/?event=38djl7n7l1lruqc9rntcersgal%40google.c
 om%3A2026-06-21
CATEGORIES:Coburg Commons
END:VEVENT
BEGIN:VEVENT
UID:3f36lht4d9eniocnfrkfm25ejm@google.com:2026-06-22@coburgcalendar.com
DTSTAMP:20260424T192604Z
DTSTART:20260622T210000Z
DTEND:20260622T230000Z
SUMMARY:Coburg Food Pantry
LOCATION:Coburg Food Pantry\, 32695 E Pearl St\, Coburg\, OR 97408\, USA
URL:https://coburgcalendar.com/?event=3f36lht4d9eniocnfrkfm25ejm%40google.c
 om%3A2026-06-22
CATEGORIES:Coburg Food Pantry
END:VEVENT
BEGIN:VEVENT
UID:02hf64meci4jnvs8bfrj1ghoq0@google.com:2026-06-25@coburgcalendar.com
DTSTAMP:20260424T192604Z
DTSTART:20260625T013000Z
DTEND:20260625T030000Z
SUMMARY:🎶 Coburg Community Choir
DESCRIPTION:Contact Dave Fitch for more.
LOCATION:Coburg Commons\, 91193 N Willamette St\, Coburg\, OR 97408\, USA
URL:https://coburgcalendar.com/?event=02hf64meci4jnvs8bfrj1ghoq0%40google.c
 om%3A2026-06-25
CATEGORIES:Coburg Commons
END:VEVENT
BEGIN:VEVENT
UID:38djl7n7l1lruqc9rntcersgal@google.com:2026-06-28@coburgcalendar.com
DTSTAMP:20260424T192604Z
DTSTART:20260628T193000Z
DTEND:20260628T210000Z
SUMMARY:📒 Poetry in the Round
DESCRIPTION:Reading poetry together in the round\, weekly.
LOCATION:Coburg Commons\, 91193 N Willamette St\, Coburg\, OR 97408\, USA
URL:https://coburgcalendar.com/?event=38djl7n7l1lruqc9rntcersgal%40google.c
 om%3A2026-06-28
CATEGORIES:Coburg Commons
END:VEVENT
BEGIN:VEVENT
UID:02hf64meci4jnvs8bfrj1ghoq0@google.com:2026-07-02@coburgcalendar.com
DTSTAMP:20260424T192604Z
DTSTART:20260702T013000Z
DTEND:20260702T030000Z
SUMMARY:🎶 Coburg Community Choir
DESCRIPTION:Contact Dave Fitch for more.
LOCATION:Coburg Commons\, 91193 N Willamette St\, Coburg\, OR 97408\, USA
URL:https://coburgcalendar.com/?event=02hf64meci4jnvs8bfrj1ghoq0%40google.c
 om%3A2026-07-02
CATEGORIES:Coburg Commons
END:VEVENT
BEGIN:VEVENT
UID:38djl7n7l1lruqc9rntcersgal@google.com:2026-07-05@coburgcalendar.com
DTSTAMP:20260424T192604Z
DTSTART:20260705T193000Z
DTEND:20260705T210000Z
SUMMARY:📒 Poetry in the Round
DESCRIPTION:Reading poetry together in the round\, weekly.
LOCATION:Coburg Commons\, 91193 N Willamette St\, Coburg\, OR 97408\, USA
URL:https://coburgcalendar.com/?event=38djl7n7l1lruqc9rntcersgal%40google.c
 om%3A2026-07-05
CATEGORIES:Coburg Commons
END:VEVENT
BEGIN:VEVENT
UID:02hf64meci4jnvs8bfrj1ghoq0@google.com:2026-07-09@coburgcalendar.com
DTSTAMP:20260424T192604Z
DTSTART:20260709T013000Z
DTEND:20260709T030000Z
SUMMARY:🎶 Coburg Community Choir
DESCRIPTION:Contact Dave Fitch for more.
LOCATION:Coburg Commons\, 91193 N Willamette St\, Coburg\, OR 97408\, USA
URL:https://coburgcalendar.com/?event=02hf64meci4jnvs8bfrj1ghoq0%40google.c
 om%3A2026-07-09
CATEGORIES:Coburg Commons
END:VEVENT
BEGIN:VEVENT
UID:38djl7n7l1lruqc9rntcersgal@google.com:2026-07-12@coburgcalendar.com
DTSTAMP:20260424T192604Z
DTSTART:20260712T193000Z
DTEND:20260712T210000Z
SUMMARY:📒 Poetry in the Round
DESCRIPTION:Reading poetry together in the round\, weekly.
LOCATION:Coburg Commons\, 91193 N Willamette St\, Coburg\, OR 97408\, USA
URL:https://coburgcalendar.com/?event=38djl7n7l1lruqc9rntcersgal%40google.c
 om%3A2026-07-12
CATEGORIES:Coburg Commons
END:VEVENT
BEGIN:VEVENT
UID:2f48d5b4kgoi9tjvbf186di7k7@google.com:2026-07-13@coburgcalendar.com
DTSTAMP:20260424T192604Z
DTSTART:20260713T210000Z
DTEND:20260713T230000Z
SUMMARY:Coburg Food Pantry
LOCATION:Coburg Food Pantry\, 32695 E Pearl St\, Coburg\, OR 97408\, USA
URL:https://coburgcalendar.com/?event=2f48d5b4kgoi9tjvbf186di7k7%40google.c
 om%3A2026-07-13
CATEGORIES:Coburg Food Pantry
END:VEVENT
BEGIN:VEVENT
UID:02hf64meci4jnvs8bfrj1ghoq0@google.com:2026-07-16@coburgcalendar.com
DTSTAMP:20260424T192604Z
DTSTART:20260716T013000Z
DTEND:20260716T030000Z
SUMMARY:🎶 Coburg Community Choir
DESCRIPTION:Contact Dave Fitch for more.
LOCATION:Coburg Commons\, 91193 N Willamette St\, Coburg\, OR 97408\, USA
URL:https://coburgcalendar.com/?event=02hf64meci4jnvs8bfrj1ghoq0%40google.c
 om%3A2026-07-16
CATEGORIES:Coburg Commons
END:VEVENT
BEGIN:VEVENT
UID:38djl7n7l1lruqc9rntcersgal@google.com:2026-07-19@coburgcalendar.com
DTSTAMP:20260424T192604Z
DTSTART:20260719T193000Z
DTEND:20260719T210000Z
SUMMARY:📒 Poetry in the Round
DESCRIPTION:Reading poetry together in the round\, weekly.
LOCATION:Coburg Commons\, 91193 N Willamette St\, Coburg\, OR 97408\, USA
URL:https://coburgcalendar.com/?event=38djl7n7l1lruqc9rntcersgal%40google.c
 om%3A2026-07-19
CATEGORIES:Coburg Commons
END:VEVENT
BEGIN:VEVENT
UID:02hf64meci4jnvs8bfrj1ghoq0@google.com:2026-07-23@coburgcalendar.com
DTSTAMP:20260424T192604Z
DTSTART:20260723T013000Z
DTEND:20260723T030000Z
SUMMARY:🎶 Coburg Community Choir
DESCRIPTION:Contact Dave Fitch for more.
LOCATION:Coburg Commons\, 91193 N Willamette St\, Coburg\, OR 97408\, USA
URL:https://coburgcalendar.com/?event=02hf64meci4jnvs8bfrj1ghoq0%40google.c
 om%3A2026-07-23
CATEGORIES:Coburg Commons
END:VEVENT
END:VCALENDAR
